BEGIN:VCALENDAR
VERSION:2.0
PRODID:-//Evergreen Mountain Area Historical Society - ECPv6.11.0.1//NONSGML v1.0//EN
CALSCALE:GREGORIAN
METHOD:PUBLISH
X-ORIGINAL-URL:https://emahs.org
X-WR-CALDESC:Events for Evergreen Mountain Area Historical Society
REFRESH-INTERVAL;VALUE=DURATION:PT1H
X-Robots-Tag:noindex
X-PUBLISHED-TTL:PT1H
BEGIN:VTIMEZONE
TZID:UTC
BEGIN:STANDARD
TZOFFSETFROM:+0000
TZOFFSETTO:+0000
TZNAME:UTC
DTSTART:20220101T000000
END:STANDARD
END:VTIMEZONE
BEGIN:VEVENT
DTSTART;TZID=UTC:20220708T163000
DTEND;TZID=UTC:20220708T183000
DTSTAMP:20260420T210620
CREATED:20220702T135743Z
LAST-MODIFIED:20220702T135743Z
UID:8649-1657297800-1657305000@emahs.org
SUMMARY:EMAHS Happy Hour: 7/07/22 @4:30pm
DESCRIPTION:
URL:https://emahs.org/event/emahs-happy-hour-7-07-22-430pm/
ATTACH;FMTTYPE=image/png:https://emahs.org/wp-content/uploads/2022/07/Screenshot-2022-07-02-075717.png
END:VEVENT
END:VCALENDAR