BEGIN:VCALENDAR
VERSION:2.0
PRODID:-//Evergreen Mountain Area Historical Society - ECPv6.11.0.1//NONSGML v1.0//EN
CALSCALE:GREGORIAN
METHOD:PUBLISH
X-ORIGINAL-URL:https://emahs.org
X-WR-CALDESC:Events for Evergreen Mountain Area Historical Society
REFRESH-INTERVAL;VALUE=DURATION:PT1H
X-Robots-Tag:noindex
X-PUBLISHED-TTL:PT1H
BEGIN:VTIMEZONE
TZID:UTC
BEGIN:STANDARD
TZOFFSETFROM:+0000
TZOFFSETTO:+0000
TZNAME:UTC
DTSTART:20220101T000000
END:STANDARD
END:VTIMEZONE
BEGIN:VEVENT
DTSTART;VALUE=DATE:20220801
DTEND;VALUE=DATE:20220901
DTSTAMP:20260420T181421
CREATED:20220516T204108Z
LAST-MODIFIED:20220723T145213Z
UID:7430-1659312000-1661990399@emahs.org
SUMMARY:EMAHS Annual Peach Sale
DESCRIPTION:IF YOU HAVE NOT ORDERED YOUR PEACHES ORDER NOW!!  SCHEDULED DELIVERY: AUGUST 13\, 2022 AT THE HIWAN MUSEUM PARKING LOT FROM 8:00 AM -1:00 PM.
URL:https://emahs.org/event/emahs-annual-peach-sale/
ATTACH;FMTTYPE=application/pdf:https://emahs.org/wp-content/uploads/2022/05/EMAHS-Peach-Post-Card2022E.pdf
END:VEVENT
END:VCALENDAR