BEGIN:VCALENDAR
VERSION:2.0
PRODID:-//Evergreen Mountain Area Historical Society - ECPv6.11.0.1//NONSGML v1.0//EN
CALSCALE:GREGORIAN
METHOD:PUBLISH
X-WR-CALNAME:Evergreen Mountain Area Historical Society
X-ORIGINAL-URL:https://emahs.org
X-WR-CALDESC:Events for Evergreen Mountain Area Historical Society
REFRESH-INTERVAL;VALUE=DURATION:PT1H
X-Robots-Tag:noindex
X-PUBLISHED-TTL:PT1H
BEGIN:VTIMEZONE
TZID:UTC
BEGIN:STANDARD
TZOFFSETFROM:+0000
TZOFFSETTO:+0000
TZNAME:UTC
DTSTART:20220101T000000
END:STANDARD
END:VTIMEZONE
BEGIN:VEVENT
DTSTART;TZID=UTC:20221014T163000
DTEND;TZID=UTC:20221014T183000
DTSTAMP:20260420T151415
CREATED:20221010T195721Z
LAST-MODIFIED:20221010T195721Z
UID:10811-1665765000-1665772200@emahs.org
SUMMARY:Outside In
DESCRIPTION:
URL:https://emahs.org/event/outside-in/
ATTACH;FMTTYPE=application/pdf:https://emahs.org/wp-content/uploads/2022/10/Outside-In-opening-flyer-2022-1.pdf
END:VEVENT
END:VCALENDAR