BEGIN:VCALENDAR
VERSION:2.0
PRODID:-//Evergreen Mountain Area Historical Society - ECPv6.11.0.1//NONSGML v1.0//EN
CALSCALE:GREGORIAN
METHOD:PUBLISH
X-ORIGINAL-URL:https://emahs.org
X-WR-CALDESC:Events for Evergreen Mountain Area Historical Society
REFRESH-INTERVAL;VALUE=DURATION:PT1H
X-Robots-Tag:noindex
X-PUBLISHED-TTL:PT1H
BEGIN:VTIMEZONE
TZID:UTC
BEGIN:STANDARD
TZOFFSETFROM:+0000
TZOFFSETTO:+0000
TZNAME:UTC
DTSTART:20220101T000000
END:STANDARD
END:VTIMEZONE
BEGIN:VEVENT
DTSTART;TZID=UTC:20221209T170000
DTEND;TZID=UTC:20221209T190000
DTSTAMP:20260420T120112
CREATED:20221206T194252Z
LAST-MODIFIED:20221206T194252Z
UID:12887-1670605200-1670612400@emahs.org
SUMMARY:Hiwan Holiday
DESCRIPTION:
URL:https://emahs.org/event/hiwan-holiday/
LOCATION:Hiwan Museum\, Evergreen\, CO\, United States
ATTACH;FMTTYPE=application/pdf:https://emahs.org/wp-content/uploads/2022/12/HiwanHoliday_2022.pdf
END:VEVENT
END:VCALENDAR