BEGIN:VCALENDAR
VERSION:2.0
PRODID:-//Evergreen Mountain Area Historical Society - ECPv6.11.0.1//NONSGML v1.0//EN
CALSCALE:GREGORIAN
METHOD:PUBLISH
X-WR-CALNAME:Evergreen Mountain Area Historical Society
X-ORIGINAL-URL:https://emahs.org
X-WR-CALDESC:Events for Evergreen Mountain Area Historical Society
REFRESH-INTERVAL;VALUE=DURATION:PT1H
X-Robots-Tag:noindex
X-PUBLISHED-TTL:PT1H
BEGIN:VTIMEZONE
TZID:UTC
BEGIN:STANDARD
TZOFFSETFROM:+0000
TZOFFSETTO:+0000
TZNAME:UTC
DTSTART:20230101T000000
END:STANDARD
END:VTIMEZONE
BEGIN:VEVENT
DTSTART;TZID=UTC:20230613T091500
DTEND;TZID=UTC:20230616T121500
DTSTAMP:20260420T035450
CREATED:20230404T162449Z
LAST-MODIFIED:20230404T162449Z
UID:14294-1686647700-1686917700@emahs.org
SUMMARY:Discovery Days
DESCRIPTION:
URL:https://emahs.org/event/discovery-days/
ATTACH;FMTTYPE=image/jpeg:https://emahs.org/wp-content/uploads/2023/04/DiscoveryDays_2023-002-scaled.jpg
END:VEVENT
END:VCALENDAR