BEGIN:VCALENDAR
VERSION:2.0
PRODID:-//Evergreen Mountain Area Historical Society - ECPv6.11.0.1//NONSGML v1.0//EN
CALSCALE:GREGORIAN
METHOD:PUBLISH
X-ORIGINAL-URL:https://emahs.org
X-WR-CALDESC:Events for Evergreen Mountain Area Historical Society
REFRESH-INTERVAL;VALUE=DURATION:PT1H
X-Robots-Tag:noindex
X-PUBLISHED-TTL:PT1H
BEGIN:VTIMEZONE
TZID:UTC
BEGIN:STANDARD
TZOFFSETFROM:+0000
TZOFFSETTO:+0000
TZNAME:UTC
DTSTART:20230101T000000
END:STANDARD
END:VTIMEZONE
BEGIN:VEVENT
DTSTART;TZID=UTC:20231208T170000
DTEND;TZID=UTC:20231208T193000
DTSTAMP:20260419T153645
CREATED:20231116T205813Z
LAST-MODIFIED:20231116T205813Z
UID:16216-1702054800-1702063800@emahs.org
SUMMARY:Hiwan Holiday Open House
DESCRIPTION:
URL:https://emahs.org/event/hiwan-holiday-open-house/
ATTACH;FMTTYPE=image/jpeg:https://emahs.org/wp-content/uploads/2023/11/Hiwan-Holiday-Open-House-2023-scaled.jpg
END:VEVENT
END:VCALENDAR