BEGIN:VCALENDAR
VERSION:2.0
PRODID:-//Evergreen Mountain Area Historical Society - ECPv6.11.0.1//NONSGML v1.0//EN
CALSCALE:GREGORIAN
METHOD:PUBLISH
X-WR-CALNAME:Evergreen Mountain Area Historical Society
X-ORIGINAL-URL:https://emahs.org
X-WR-CALDESC:Events for Evergreen Mountain Area Historical Society
REFRESH-INTERVAL;VALUE=DURATION:PT1H
X-Robots-Tag:noindex
X-PUBLISHED-TTL:PT1H
BEGIN:VTIMEZONE
TZID:UTC
BEGIN:STANDARD
TZOFFSETFROM:+0000
TZOFFSETTO:+0000
TZNAME:UTC
DTSTART:20220101T000000
END:STANDARD
END:VTIMEZONE
BEGIN:VEVENT
DTSTART;TZID=UTC:20221007T100000
DTEND;TZID=UTC:20221007T120000
DTSTAMP:20260420T150846
CREATED:20220928T203513Z
LAST-MODIFIED:20220928T203513Z
UID:10434-1665136800-1665144000@emahs.org
SUMMARY:Hiwan Homeschool Day 2022
DESCRIPTION:
URL:https://emahs.org/event/hiwan-homeschool-day-2022/
LOCATION:Hiwan Museum\, Evergreen\, CO\, United States
ATTACH;FMTTYPE=image/png:https://emahs.org/wp-content/uploads/2022/09/Screenshot-2022-09-28-143122.png
END:VEVENT
BEGIN:VEVENT
DTSTART;TZID=UTC:20221014T163000
DTEND;TZID=UTC:20221014T183000
DTSTAMP:20260420T150846
CREATED:20221010T195721Z
LAST-MODIFIED:20221010T195721Z
UID:10811-1665765000-1665772200@emahs.org
SUMMARY:Outside In
DESCRIPTION:
URL:https://emahs.org/event/outside-in/
ATTACH;FMTTYPE=application/pdf:https://emahs.org/wp-content/uploads/2022/10/Outside-In-opening-flyer-2022-1.pdf
END:VEVENT
BEGIN:VEVENT
DTSTART;TZID=UTC:20221028T160000
DTEND;TZID=UTC:20221028T180000
DTSTAMP:20260420T150846
CREATED:20220928T203802Z
LAST-MODIFIED:20220928T203802Z
UID:10452-1666972800-1666980000@emahs.org
SUMMARY:Hiwan Halloween
DESCRIPTION:
URL:https://emahs.org/event/hiwan-halloween/
LOCATION:Hiwan Museum\, Evergreen\, CO\, United States
ATTACH;FMTTYPE=image/png:https://emahs.org/wp-content/uploads/2022/09/Screenshot-2022-09-28-143010.png
END:VEVENT
END:VCALENDAR