BEGIN:VCALENDAR
VERSION:2.0
PRODID:-//Evergreen Mountain Area Historical Society - ECPv6.11.0.1//NONSGML v1.0//EN
CALSCALE:GREGORIAN
METHOD:PUBLISH
X-WR-CALNAME:Evergreen Mountain Area Historical Society
X-ORIGINAL-URL:https://emahs.org
X-WR-CALDESC:Events for Evergreen Mountain Area Historical Society
REFRESH-INTERVAL;VALUE=DURATION:PT1H
X-Robots-Tag:noindex
X-PUBLISHED-TTL:PT1H
BEGIN:VTIMEZONE
TZID:UTC
BEGIN:STANDARD
TZOFFSETFROM:+0000
TZOFFSETTO:+0000
TZNAME:UTC
DTSTART:20230101T000000
END:STANDARD
END:VTIMEZONE
BEGIN:VEVENT
DTSTART;TZID=UTC:20230214T100000
DTEND;TZID=UTC:20230214T110000
DTSTAMP:20260420T071327
CREATED:20230103T203529Z
LAST-MODIFIED:20230103T203529Z
UID:13100-1676368800-1676372400@emahs.org
SUMMARY:HiSTORYtime
DESCRIPTION:Explore history and culture through stories and hands-on activities in Hiwan Museum’s Stone House.  \n  \n10-10:45 a.m. \nFREE \nFor ages 3-5 with an adult \nIn the Stone House at Hiwan Heritage Park\, 28473 Meadow Drive\, Evergreen \nRegistration recommended; please call 720-497-7654 or email jhancock@jeffco.us \n(This program will be held monthly on the second Tuesday; no programs June-August)
URL:https://emahs.org/event/historytime-2/
END:VEVENT
END:VCALENDAR