BEGIN:VCALENDAR
VERSION:2.0
PRODID:-//Evergreen Mountain Area Historical Society - ECPv6.11.0.1//NONSGML v1.0//EN
CALSCALE:GREGORIAN
METHOD:PUBLISH
X-ORIGINAL-URL:https://emahs.org
X-WR-CALDESC:Events for Evergreen Mountain Area Historical Society
REFRESH-INTERVAL;VALUE=DURATION:PT1H
X-Robots-Tag:noindex
X-PUBLISHED-TTL:PT1H
BEGIN:VTIMEZONE
TZID:UTC
BEGIN:STANDARD
TZOFFSETFROM:+0000
TZOFFSETTO:+0000
TZNAME:UTC
DTSTART:20230101T000000
END:STANDARD
END:VTIMEZONE
BEGIN:VEVENT
DTSTART;TZID=UTC:20231027T163000
DTEND;TZID=UTC:20231027T180000
DTSTAMP:20260419T171025
CREATED:20231010T162425Z
LAST-MODIFIED:20231010T162425Z
UID:16210-1698424200-1698429600@emahs.org
SUMMARY:Hiwan Halloween
DESCRIPTION:
URL:https://emahs.org/event/hiwan-halloween-2/
ATTACH;FMTTYPE=image/png:https://emahs.org/wp-content/uploads/2023/10/Hiwan-Halloween2023-8x11-1.png
END:VEVENT
END:VCALENDAR